BEGIN:VCALENDAR
VERSION:2.0
PRODID:GlueUp
CALSCALE:GREGORIAN
BEGIN:VTIMEZONE
TZID:UTC
BEGIN:STANDARD
DTSTART:19700101T000000
TZOFFSETFROM:+0000
TZOFFSETTO:+0000
TZNAME:UTC
END:STANDARD
END:VTIMEZONE
BEGIN:VEVENT
TZ:+00
ORGANIZER;CN=James O’Riley:MAILTO:james.oriley@nzbric.com
UID:48953-1777169130@https://nzbric.glueup.cn
DTSTAMP:20260426T020530Z
DTSTART:20251213T040000Z
DTEND:20251213T070000Z
SUMMARY:Annual Kiwi Brunch 2025: Christmas Edition
DESCRIPTION:Annual Kiwi Brunch 2025: Christmas Edition by New Zealand Business Roundtable in China (NZBRiC)\n\nDec 13, 2025 (12:00 PM - 3:00 PM)(GMT+8)\n\nFor more information, click here: https://nzbric.glueup.cn/my/events/48953
LOCATION:W Shanghai - The Bund - No.66 Lvshun Road - Hongkou District - Shanghai - China - 200080 -  - 虹口区-旅顺路66号 Shanghai - China
BEGIN:VALARM
TRIGGER:-PT48H
REPEAT:4
DURATION:PT30M
ACTION:DISPLAY
END:VALARM
END:VEVENT
END:VCALENDAR