BEGIN:VCALENDAR
VERSION:2.0
PRODID:GlueUp
CALSCALE:GREGORIAN
BEGIN:VTIMEZONE
TZID:UTC
BEGIN:STANDARD
DTSTART:19700101T000000
TZOFFSETFROM:+0000
TZOFFSETTO:+0000
TZNAME:UTC
END:STANDARD
END:VTIMEZONE
BEGIN:VEVENT
TZ:+00
ORGANIZER;CN=James O’Riley:MAILTO:james.oriley@nzbric.com
UID:49291-1777169131@https://nzbric.glueup.cn
DTSTAMP:20260426T020531Z
DTSTART:20260116T103000Z
DTEND:20260116T130000Z
SUMMARY:InterChamber Mixer: After Hours – New Year Artist Night
DESCRIPTION:InterChamber Mixer: After Hours – New Year Artist Night by New Zealand Business Roundtable in China (NZBRiC)\n\nJan 16, 2026 (6:30 PM - 9:00 PM)(GMT+8)\n\nFor more information, click here: https://nzbric.glueup.cn/my/events/49291
LOCATION:E.SCAPE Art Space - Wukang Road 40 Long No.3 - Xuhui - Shanghai -  - 上海市武康路40弄3号院 Shanghai - China
BEGIN:VALARM
TRIGGER:-PT48H
REPEAT:4
DURATION:PT30M
ACTION:DISPLAY
END:VALARM
END:VEVENT
END:VCALENDAR