BEGIN:VCALENDAR
VERSION:2.0
PRODID:GlueUp
CALSCALE:GREGORIAN
BEGIN:VTIMEZONE
TZID:UTC
BEGIN:STANDARD
DTSTART:19700101T000000
TZOFFSETFROM:+0000
TZOFFSETTO:+0000
TZNAME:UTC
END:STANDARD
END:VTIMEZONE
BEGIN:VEVENT
TZ:+00
ORGANIZER;CN=James O’Riley:MAILTO:james.oriley@nzbric.com
UID:48963-1777169070@https://nzbric.glueup.cn
DTSTAMP:20260426T020430Z
DTSTART:20251211T070000Z
DTEND:20251211T090000Z
SUMMARY:Q4 Dairy Industry Forum
DESCRIPTION:Q4 Dairy Industry Forum by New Zealand Business Roundtable in China (NZBRiC)\n\nDec 11, 2025 (3:00 PM - 5:00 PM)(GMT+8)\n\nFor more information, click here: https://nzbric.glueup.cn/my/events/48963
LOCATION:Tatua's Head Shanghai Office - Unit 1907 - Shui On Plaza - No.333 Huaihai Middle Road Huangpu District - Shanghai 200021 Shanghai - China
BEGIN:VALARM
TRIGGER:-PT48H
REPEAT:4
DURATION:PT30M
ACTION:DISPLAY
END:VALARM
END:VEVENT
END:VCALENDAR